BEGIN:VCALENDAR
VERSION:2.0
PRODID:-//Radford Semele Parish Council//Meeting Calendar//EN
CALSCALE:GREGORIAN
METHOD:PUBLISH
BEGIN:VEVENT
UID:71522-20260330@radfordsemele-pc.gov.uk
DTSTAMP:20260420T071423Z
DTSTART;VALUE=DATE:20260330
DTEND;VALUE=DATE:20260331
SUMMARY:Council Meeting &#8211\\; 30 March 2026 at 7:30pm
DESCRIPTION:Full Council Meeting\nView details: https://radfordsemele-pc.gov.uk/meetings/council-meeting-30-march-2026-at-730pm/
URL:https://radfordsemele-pc.gov.uk/meetings/council-meeting-30-march-2026-at-730pm/
END:VEVENT
END:VCALENDAR
