BEGIN:VCALENDAR
VERSION:2.0
PRODID:-//Radford Semele Parish Council//Meeting Calendar//EN
CALSCALE:GREGORIAN
METHOD:PUBLISH
BEGIN:VEVENT
UID:71521-20260223@radfordsemele-pc.gov.uk
DTSTAMP:20260420T071430Z
DTSTART;VALUE=DATE:20260223
DTEND;VALUE=DATE:20260224
SUMMARY:Council Meeting &#8211\\; 23 February 2026 at 7:30pm
DESCRIPTION:Full Council Meeting\nView details: https://radfordsemele-pc.gov.uk/meetings/council-meeting-23-february-2026-at-730pm/
URL:https://radfordsemele-pc.gov.uk/meetings/council-meeting-23-february-2026-at-730pm/
END:VEVENT
END:VCALENDAR
