BEGIN:VCALENDAR
VERSION:2.0
PRODID:-//Radford Semele Parish Council//Meeting Calendar//EN
CALSCALE:GREGORIAN
METHOD:PUBLISH
BEGIN:VEVENT
UID:71125-20250519@radfordsemele-pc.gov.uk
DTSTAMP:20260421T081334Z
DTSTART;VALUE=DATE:20250519
DTEND;VALUE=DATE:20250520
SUMMARY:Council Meeting 19th May 2025 at 7:30pm.
DESCRIPTION:Full Council Meeting\nView details: https://radfordsemele-pc.gov.uk/meetings/meeting-name-here-3/
URL:https://radfordsemele-pc.gov.uk/meetings/meeting-name-here-3/
END:VEVENT
END:VCALENDAR
