BEGIN:VCALENDAR
VERSION:2.0
PRODID:-//Radford Semele Parish Council//Meeting Calendar//EN
CALSCALE:GREGORIAN
METHOD:PUBLISH
BEGIN:VEVENT
UID:70929-20240805@radfordsemele-pc.gov.uk
DTSTAMP:20260420T213738Z
DTSTART;VALUE=DATE:20240805
DTEND;VALUE=DATE:20240806
SUMMARY:Council Meeting &#8211\\; July meeting held 5th August 2024
DESCRIPTION:Full Council Meeting\nView details: https://radfordsemele-pc.gov.uk/meetings/meeting-name-here-2/
URL:https://radfordsemele-pc.gov.uk/meetings/meeting-name-here-2/
END:VEVENT
END:VCALENDAR
