BEGIN:VCALENDAR
VERSION:2.0
PRODID:-//Radford Semele Parish Council//Meeting Calendar//EN
CALSCALE:GREGORIAN
METHOD:PUBLISH
BEGIN:VEVENT
UID:70603-20240226@radfordsemele-pc.gov.uk
DTSTAMP:20260422T085753Z
DTSTART;VALUE=DATE:20240226
DTEND;VALUE=DATE:20240227
SUMMARY:Council Meeting &#8211\\; 26 February 2024
DESCRIPTION:Full Council Meeting\nView details: https://radfordsemele-pc.gov.uk/meetings/council-meeting-26-february-2024/
URL:https://radfordsemele-pc.gov.uk/meetings/council-meeting-26-february-2024/
END:VEVENT
END:VCALENDAR
