BEGIN:VCALENDAR
VERSION:2.0
PRODID:-//Radford Semele Parish Council//Meeting Calendar//EN
CALSCALE:GREGORIAN
METHOD:PUBLISH
BEGIN:VEVENT
UID:70598-20240429@radfordsemele-pc.gov.uk
DTSTAMP:20260420T214803Z
DTSTART;VALUE=DATE:20240429
DTEND;VALUE=DATE:20240430
SUMMARY:Council Meeting &#8211\\; 29 April 2024
DESCRIPTION:Full Council Meeting\nView details: https://radfordsemele-pc.gov.uk/meetings/council-meeting-29-april-2024/
URL:https://radfordsemele-pc.gov.uk/meetings/council-meeting-29-april-2024/
END:VEVENT
END:VCALENDAR
