BEGIN:VCALENDAR
VERSION:2.0
PRODID:-//Radford Semele Parish Council//Meeting Calendar//EN
CALSCALE:GREGORIAN
METHOD:PUBLISH
BEGIN:VEVENT
UID:70594-20240624@radfordsemele-pc.gov.uk
DTSTAMP:20260421T082913Z
DTSTART;VALUE=DATE:20240624
DTEND;VALUE=DATE:20240625
SUMMARY:Council Meeting &#8211\\; 24 June 2024
DESCRIPTION:Full Council Meeting\nView details: https://radfordsemele-pc.gov.uk/meetings/council-meeting-24-june-2024/
URL:https://radfordsemele-pc.gov.uk/meetings/council-meeting-24-june-2024/
END:VEVENT
END:VCALENDAR
